Workbook

Sheet Quote
A1: Renovation quote estimator
A2: Yellow cells are inputs. Everything else is calculated.
A4: Ref | B4: Item | C4: Unit | D4: Qty | E4: Unit price | F4: Line total
A5: DEM-01 | B5: =IF(A5="","",VLOOKUP(A5,'Price list'!$A$2:$E$31,3,FALSE)) | C5: =IF(A5="","",VLOOKUP(A5,'Price list'!$A$2:$E$31,4,FALSE)) | D5: 18 | E5: =IF(A5="","",VLOOKUP(A5,'Price list'!$A$2:$E$31,5,FALSE)) | F5: =IF(A5="",0,D5*E5)
A6: DEM-03 | B6: =IF(A6="","",VLOOKUP(A6,'Price list'!$A$2:$E$31,3,FALSE)) | C6: =IF(A6="","",VLOOKUP(A6,'Price list'!$A$2:$E$31,4,FALSE)) | D6: 1 | E6: =IF(A6="","",VLOOKUP(A6,'Price list'!$A$2:$E$31,5,FALSE)) | F6: =IF(A6="",0,D6*E6)
A7: DEM-04 | B7: =IF(A7="","",VLOOKUP(A7,'Price list'!$A$2:$E$31,3,FALSE)) | C7: =IF(A7="","",VLOOKUP(A7,'Price list'!$A$2:$E$31,4,FALSE)) | D7: 1 | E7: =IF(A7="","",VLOOKUP(A7,'Price list'!$A$2:$E$31,5,FALSE)) | F7: =IF(A7="",0,D7*E7)
A8: PLB-02 | B8: =IF(A8="","",VLOOKUP(A8,'Price list'!$A$2:$E$31,3,FALSE)) | C8: =IF(A8="","",VLOOKUP(A8,'Price list'!$A$2:$E$31,4,FALSE)) | D8: 1 | E8: =IF(A8="","",VLOOKUP(A8,'Price list'!$A$2:$E$31,5,FALSE)) | F8: =IF(A8="",0,D8*E8)
A9: PLB-01 | B9: =IF(A9="","",VLOOKUP(A9,'Price list'!$A$2:$E$31,3,FALSE)) | C9: =IF(A9="","",VLOOKUP(A9,'Price list'!$A$2:$E$31,4,FALSE)) | D9: 1 | E9: =IF(A9="","",VLOOKUP(A9,'Price list'!$A$2:$E$31,5,FALSE)) | F9: =IF(A9="",0,D9*E9)
A10: TIL-03 | B10: =IF(A10="","",VLOOKUP(A10,'Price list'!$A$2:$E$31,3,FALSE)) | C10: =IF(A10="","",VLOOKUP(A10,'Price list'!$A$2:$E$31,4,FALSE)) | D10: 6 | E10: =IF(A10="","",VLOOKUP(A10,'Price list'!$A$2:$E$31,5,FALSE)) | F10: =IF(A10="",0,D10*E10)
A11: TIL-02 | B11: =IF(A11="","",VLOOKUP(A11,'Price list'!$A$2:$E$31,3,FALSE)) | C11: =IF(A11="","",VLOOKUP(A11,'Price list'!$A$2:$E$31,4,FALSE)) | D11: 18 | E11: =IF(A11="","",VLOOKUP(A11,'Price list'!$A$2:$E$31,5,FALSE)) | F11: =IF(A11="",0,D11*E11)
A12: TIL-01 | B12: =IF(A12="","",VLOOKUP(A12,'Price list'!$A$2:$E$31,3,FALSE)) | C12: =IF(A12="","",VLOOKUP(A12,'Price list'!$A$2:$E$31,4,FALSE)) | D12: 5 | E12: =IF(A12="","",VLOOKUP(A12,'Price list'!$A$2:$E$31,5,FALSE)) | F12: =IF(A12="",0,D12*E12)
A13: ELE-04 | B13: =IF(A13="","",VLOOKUP(A13,'Price list'!$A$2:$E$31,3,FALSE)) | C13: =IF(A13="","",VLOOKUP(A13,'Price list'!$A$2:$E$31,4,FALSE)) | D13: 1 | E13: =IF(A13="","",VLOOKUP(A13,'Price list'!$A$2:$E$31,5,FALSE)) | F13: =IF(A13="",0,D13*E13)
A14: PNT-02 | B14: =IF(A14="","",VLOOKUP(A14,'Price list'!$A$2:$E$31,3,FALSE)) | C14: =IF(A14="","",VLOOKUP(A14,'Price list'!$A$2:$E$31,4,FALSE)) | D14: 5 | E14: =IF(A14="","",VLOOKUP(A14,'Price list'!$A$2:$E$31,5,FALSE)) | F14: =IF(A14="",0,D14*E14)
B15: =IF(A15="","",VLOOKUP(A15,'Price list'!$A$2:$E$31,3,FALSE)) | C15: =IF(A15="","",VLOOKUP(A15,'Price list'!$A$2:$E$31,4,FALSE)) | E15: =IF(A15="","",VLOOKUP(A15,'Price list'!$A$2:$E$31,5,FALSE)) | F15: =IF(A15="",0,D15*E15)
B16: =IF(A16="","",VLOOKUP(A16,'Price list'!$A$2:$E$31,3,FALSE)) | C16: =IF(A16="","",VLOOKUP(A16,'Price list'!$A$2:$E$31,4,FALSE)) | E16: =IF(A16="","",VLOOKUP(A16,'Price list'!$A$2:$E$31,5,FALSE)) | F16: =IF(A16="",0,D16*E16)
B17: =IF(A17="","",VLOOKUP(A17,'Price list'!$A$2:$E$31,3,FALSE)) | C17: =IF(A17="","",VLOOKUP(A17,'Price list'!$A$2:$E$31,4,FALSE)) | E17: =IF(A17="","",VLOOKUP(A17,'Price list'!$A$2:$E$31,5,FALSE)) | F17: =IF(A17="",0,D17*E17)
B18: =IF(A18="","",VLOOKUP(A18,'Price list'!$A$2:$E$31,3,FALSE)) | C18: =IF(A18="","",VLOOKUP(A18,'Price list'!$A$2:$E$31,4,FALSE)) | E18: =IF(A18="","",VLOOKUP(A18,'Price list'!$A$2:$E$31,5,FALSE)) | F18: =IF(A18="",0,D18*E18)
B19: =IF(A19="","",VLOOKUP(A19,'Price list'!$A$2:$E$31,3,FALSE)) | C19: =IF(A19="","",VLOOKUP(A19,'Price list'!$A$2:$E$31,4,FALSE)) | E19: =IF(A19="","",VLOOKUP(A19,'Price list'!$A$2:$E$31,5,FALSE)) | F19: =IF(A19="",0,D19*E19)
E21: Works subtotal | F21: =SUM(F5:F19)
E22: Extra labour (hours) | F22: 16
E23: Hourly rate | F23: 45
E24: Labour | F24: =F22*F23
E25: Subtotal | F25: =F21+F24
E26: Discount rate | F26: 0.05
E27: Discount | F27: =-F25*F26
E28: Net before VAT | F28: =F25+F27
E29: VAT rate | F29: 0.2
E30: VAT | F30: =F28*F29
E31: Total incl. VAT | F31: =F28+F30
E32: Deposit rate | F32: 0.3
E33: Deposit due on signature | F33: =ROUND(F31*F32,2)

Sheet Price list
A1: ref | B1: category | C1: item | D1: unit | E1: unit_price
A2: DEM-01 | B2: Demolition | C2: Remove wall tiles | D2: m² | E2: 18
A3: DEM-02 | B3: Demolition | C3: Remove floor covering | D3: m² | E3: 12
A4: DEM-03 | B4: Demolition | C4: Remove bathtub or shower | D4: unit | E4: 150
A5: DEM-04 | B5: Demolition | C5: Debris removal (skip) | D5: unit | E5: 380
A6: PLB-01 | B6: Plumbing | C6: Install washbasin | D6: unit | E6: 220
A7: PLB-02 | B7: Plumbing | C7: Install walk-in shower | D7: unit | E7: 950
A8: PLB-03 | B8: Plumbing | C8: Install toilet | D8: unit | E8: 260
A9: PLB-04 | B9: Plumbing | C9: Replace water heater (200 L) | D9: unit | E9: 1150
A10: PLB-05 | B10: Plumbing | C10: Copper pipework | D10: linear m | E10: 65
A11: ELE-01 | B11: Electrical | C11: Add power socket | D11: unit | E11: 95
A12: ELE-02 | B12: Electrical | C12: Add light point | D12: unit | E12: 110
A13: ELE-03 | B13: Electrical | C13: Replace consumer unit | D13: unit | E13: 1350
... A31: KIT-03 | B31: Kitchen | C31: Sink and tap connection | D31: unit | E31: 240
